BEGIN:VCALENDAR
VERSION:2.0
PRODID:-//Zuluru//Team Schedule//EN
CALSCALE:GREGORIAN
METHOD:PUBLISH
X-WR-CALNAME:Little Miss Muffet schedule from MissUC
BEGIN:VEVENT
UID:1217@missuc.ca
DTSTAMP:20260424T223106Z
CREATED:20260415T004115Z
LAST-MODIFIED:20260415T005926Z
DTSTART:20260516T171000Z
DTEND:20260516T185500Z
LOCATION;ALTREP="https://www.missuc.ca/zuluru/facilities/view?facility=14":40 Forest Avenue\, Mississauga\, Ontario
GEO:43.561715144128;-79.578616133591
X-LOCATION-URL:https://www.missuc.ca/zuluru/facilities/view?facility=14
SUMMARY:Little Miss Muffet (away) vs Jack & Jill (home)
DESCRIPTION:Little Miss Muffet (away) vs Jack & Jill (home) at Mentor College Outdoor South (MCO) on Sat May 16 2026 1:10PM to 2:55PM (they wear Blue)
X-OPPONENT-COLOUR:Blue
STATUS:CONFIRMED
TRANSP:OPAQUE
END:VEVENT
BEGIN:VEVENT
UID:1215@missuc.ca
DTSTAMP:20260424T223106Z
CREATED:20260415T004115Z
LAST-MODIFIED:20260415T005921Z
DTSTART:20260509T171000Z
DTEND:20260509T185500Z
LOCATION;ALTREP="https://www.missuc.ca/zuluru/facilities/view?facility=14":40 Forest Avenue\, Mississauga\, Ontario
GEO:43.561837586385;-79.578988600525
X-LOCATION-URL:https://www.missuc.ca/zuluru/facilities/view?facility=14
SUMMARY:Little Miss Muffet (home) vs Bo Peep (away)
DESCRIPTION:Little Miss Muffet (home) vs Bo Peep (away) at Mentor College Outdoor Middle (MCO) on Sat May 9 2026 1:10PM to 2:55PM (they wear Red)
X-OPPONENT-COLOUR:Red
STATUS:CONFIRMED
TRANSP:OPAQUE
END:VEVENT
BEGIN:VEVENT
UID:1212@missuc.ca
DTSTAMP:20260424T223106Z
CREATED:20260415T004115Z
LAST-MODIFIED:20260415T005917Z
DTSTART:20260502T171000Z
DTEND:20260502T185500Z
LOCATION;ALTREP="https://www.missuc.ca/zuluru/facilities/view?facility=14":40 Forest Avenue\, Mississauga\, Ontario
GEO:43.561971700872;-79.579356423279
X-LOCATION-URL:https://www.missuc.ca/zuluru/facilities/view?facility=14
SUMMARY:Little Miss Muffet (home) vs Jack Horner (away)
DESCRIPTION:Little Miss Muffet (home) vs Jack Horner (away) at Mentor College Outdoor Train Tracks (MCO) on Sat May 2 2026 1:10PM to 2:55PM (they wear Green)
X-OPPONENT-COLOUR:Green
STATUS:CONFIRMED
TRANSP:OPAQUE
END:VEVENT
BEGIN:VEVENT
UID:1208@missuc.ca
DTSTAMP:20260424T223106Z
CREATED:20260415T004115Z
LAST-MODIFIED:20260415T005914Z
DTSTART:20260425T171000Z
DTEND:20260425T185500Z
LOCATION;ALTREP="https://www.missuc.ca/zuluru/facilities/view?facility=14":40 Forest Avenue\, Mississauga\, Ontario
GEO:43.561971700872;-79.579356423279
X-LOCATION-URL:https://www.missuc.ca/zuluru/facilities/view?facility=14
SUMMARY:Little Miss Muffet (away) vs Humpty Dumpty (home)
DESCRIPTION:Little Miss Muffet (away) vs Humpty Dumpty (home) at Mentor College Outdoor Train Tracks (MCO) on Sat Apr 25 2026 1:10PM to 2:55PM (they wear White)
X-OPPONENT-COLOUR:White
STATUS:CONFIRMED
TRANSP:OPAQUE
END:VEVENT
BEGIN:VEVENT
UID:1204@missuc.ca
DTSTAMP:20260424T223106Z
CREATED:20260415T004115Z
LAST-MODIFIED:20260415T005909Z
DTSTART:20260418T171000Z
DTEND:20260418T185500Z
LOCATION;ALTREP="https://www.missuc.ca/zuluru/facilities/view?facility=14":40 Forest Avenue\, Mississauga\, Ontario
GEO:43.561715144128;-79.578616133591
X-LOCATION-URL:https://www.missuc.ca/zuluru/facilities/view?facility=14
SUMMARY:Little Miss Muffet (home) vs Baa Baa Black Sheep (away)
DESCRIPTION:Little Miss Muffet (home) vs Baa Baa Black Sheep (away) at Mentor College Outdoor South (MCO) on Sat Apr 18 2026 1:10PM to 2:55PM (they wear Black)
X-OPPONENT-COLOUR:Black
STATUS:CONFIRMED
TRANSP:OPAQUE
END:VEVENT
END:VCALENDAR
