BEGIN:VCALENDAR
VERSION:2.0
PRODID:-//Zuluru//Team Schedule//EN
CALSCALE:GREGORIAN
METHOD:PUBLISH
X-WR-CALNAME:Humpty Dumpty schedule from MissUC
BEGIN:VEVENT
UID:1218@missuc.ca
DTSTAMP:20260424T223307Z
CREATED:20260415T004115Z
LAST-MODIFIED:20260415T005926Z
DTSTART:20260516T171000Z
DTEND:20260516T185500Z
LOCATION;ALTREP="https://www.missuc.ca/zuluru/facilities/view?facility=14":40 Forest Avenue\, Mississauga\, Ontario
GEO:43.561971700872;-79.579356423279
X-LOCATION-URL:https://www.missuc.ca/zuluru/facilities/view?facility=14
SUMMARY:Humpty Dumpty (away) vs Bo Peep (home)
DESCRIPTION:Humpty Dumpty (away) vs Bo Peep (home) at Mentor College Outdoor Train Tracks (MCO) on Sat May 16 2026 1:10PM to 2:55PM (they wear Red)
X-OPPONENT-COLOUR:Red
STATUS:CONFIRMED
TRANSP:OPAQUE
END:VEVENT
BEGIN:VEVENT
UID:1214@missuc.ca
DTSTAMP:20260424T223307Z
CREATED:20260415T004115Z
LAST-MODIFIED:20260415T005921Z
DTSTART:20260509T171000Z
DTEND:20260509T185500Z
LOCATION;ALTREP="https://www.missuc.ca/zuluru/facilities/view?facility=14":40 Forest Avenue\, Mississauga\, Ontario
GEO:43.561715144128;-79.578616133591
X-LOCATION-URL:https://www.missuc.ca/zuluru/facilities/view?facility=14
SUMMARY:Humpty Dumpty (home) vs Jack Horner (away)
DESCRIPTION:Humpty Dumpty (home) vs Jack Horner (away) at Mentor College Outdoor South (MCO) on Sat May 9 2026 1:10PM to 2:55PM (they wear Green)
X-OPPONENT-COLOUR:Green
STATUS:CONFIRMED
TRANSP:OPAQUE
END:VEVENT
BEGIN:VEVENT
UID:1210@missuc.ca
DTSTAMP:20260424T223307Z
CREATED:20260415T004115Z
LAST-MODIFIED:20260415T005917Z
DTSTART:20260502T171000Z
DTEND:20260502T185500Z
LOCATION;ALTREP="https://www.missuc.ca/zuluru/facilities/view?facility=14":40 Forest Avenue\, Mississauga\, Ontario
GEO:43.561715144128;-79.578616133591
X-LOCATION-URL:https://www.missuc.ca/zuluru/facilities/view?facility=14
SUMMARY:Humpty Dumpty (away) vs Baa Baa Black Sheep (home)
DESCRIPTION:Humpty Dumpty (away) vs Baa Baa Black Sheep (home) at Mentor College Outdoor South (MCO) on Sat May 2 2026 1:10PM to 2:55PM (they wear Black)
X-OPPONENT-COLOUR:Black
STATUS:CONFIRMED
TRANSP:OPAQUE
END:VEVENT
BEGIN:VEVENT
UID:1208@missuc.ca
DTSTAMP:20260424T223307Z
CREATED:20260415T004115Z
LAST-MODIFIED:20260415T005914Z
DTSTART:20260425T171000Z
DTEND:20260425T185500Z
LOCATION;ALTREP="https://www.missuc.ca/zuluru/facilities/view?facility=14":40 Forest Avenue\, Mississauga\, Ontario
GEO:43.561971700872;-79.579356423279
X-LOCATION-URL:https://www.missuc.ca/zuluru/facilities/view?facility=14
SUMMARY:Humpty Dumpty (home) vs Little Miss Muffet (away)
DESCRIPTION:Humpty Dumpty (home) vs Little Miss Muffet (away) at Mentor College Outdoor Train Tracks (MCO) on Sat Apr 25 2026 1:10PM to 2:55PM (they wear Yellow)
X-OPPONENT-COLOUR:Yellow
STATUS:CONFIRMED
TRANSP:OPAQUE
END:VEVENT
BEGIN:VEVENT
UID:1206@missuc.ca
DTSTAMP:20260424T223307Z
CREATED:20260415T004115Z
LAST-MODIFIED:20260421T115009Z
DTSTART:20260418T171000Z
DTEND:20260418T185500Z
LOCATION;ALTREP="https://www.missuc.ca/zuluru/facilities/view?facility=14":40 Forest Avenue\, Mississauga\, Ontario
GEO:43.561837586385;-79.578988600525
X-LOCATION-URL:https://www.missuc.ca/zuluru/facilities/view?facility=14
SUMMARY:Humpty Dumpty (away) vs Jack & Jill (home)
DESCRIPTION:Humpty Dumpty (away) vs Jack & Jill (home) at Mentor College Outdoor Middle (MCO) on Sat Apr 18 2026 1:10PM to 2:55PM (they wear Blue)
X-OPPONENT-COLOUR:Blue
STATUS:CONFIRMED
TRANSP:OPAQUE
END:VEVENT
END:VCALENDAR
